BEGIN:VCALENDAR
VERSION:2.0
PRODID:-//Sandwell Visually Impaired - ECPv6.15.4//NONSGML v1.0//EN
CALSCALE:GREGORIAN
METHOD:PUBLISH
X-WR-CALNAME:Sandwell Visually Impaired
X-ORIGINAL-URL:https://sandwellvisuallyimpaired.org.uk
X-WR-CALDESC:Events for Sandwell Visually Impaired
REFRESH-INTERVAL;VALUE=DURATION:PT1H
X-Robots-Tag:noindex
X-PUBLISHED-TTL:PT1H
BEGIN:VTIMEZONE
TZID:Europe/London
BEGIN:DAYLIGHT
TZOFFSETFROM:+0000
TZOFFSETTO:+0100
TZNAME:BST
DTSTART:20230326T010000
END:DAYLIGHT
BEGIN:STANDARD
TZOFFSETFROM:+0100
TZOFFSETTO:+0000
TZNAME:GMT
DTSTART:20231029T010000
END:STANDARD
END:VTIMEZONE
BEGIN:VEVENT
DTSTART;TZID=Europe/London:20230417T170000
DTEND;TZID=Europe/London:20230417T183000
DTSTAMP:20260423T100318
CREATED:20230417T121538Z
LAST-MODIFIED:20230417T121538Z
UID:3811-1681750800-1681756200@sandwellvisuallyimpaired.org.uk
SUMMARY:SVI Women’s Group menopause session
DESCRIPTION:This session will be around 90 minutes long. It will cover what happens to our bodies during menopause and how we can improve our health and wellbeing. This includes bone health\, heart health and mental wellbeing\, and the risks and benefits of HRT. It will also be an opportunity for women to share their own experiences\, thoughts and concerns. \nLina Martino\, a consultant from Sandwell Council’s Public Health team will lead the session. \nLight refreshments will be available. \nContact us to book your place.
URL:https://sandwellvisuallyimpaired.org.uk/old-event/svi-womens-group-menopause-session/
LOCATION:SVI Office/Common Room\, West Bromwich Town Hall\, High Street\, West Bromwich\, B70 8DY
CATEGORIES:Sandwell Calendar,Women's Group
ORGANIZER;CN="Sandwell Visually Impaired":MAILTO:info@sandwellvisuallyimpaired.org.uk
END:VEVENT
BEGIN:VEVENT
DTSTART;TZID=Europe/London:20230206T140000
DTEND;TZID=Europe/London:20230206T153000
DTSTAMP:20260423T100318
CREATED:20230106T175919Z
LAST-MODIFIED:20230106T180018Z
UID:3582-1675692000-1675697400@sandwellvisuallyimpaired.org.uk
SUMMARY:Women's Group - Zoom event
DESCRIPTION:The women’s group will be having a Zoom get together on Monday 6 February from 2pm to 3.30pm. This will be an informal get together and to plan what we want to do over the next few months. \nContact us to get the details you need to join in on Zoom.
URL:https://sandwellvisuallyimpaired.org.uk/old-event/womens-group-zoom-event/
CATEGORIES:Women's Group
ORGANIZER;CN="Sandwell Visually Impaired":MAILTO:info@sandwellvisuallyimpaired.org.uk
END:VEVENT
BEGIN:VEVENT
DTSTART;TZID=Europe/London:20230116T170000
DTEND;TZID=Europe/London:20230116T190000
DTSTAMP:20260423T100318
CREATED:20230106T175707Z
LAST-MODIFIED:20230106T175707Z
UID:3580-1673888400-1673895600@sandwellvisuallyimpaired.org.uk
SUMMARY:Women's Group - Pudding Club
DESCRIPTION:Become a member of the SVI women’s group pudding club for one night only.  Join us at West Bromwich Town Hall on Monday 16 January from 5pm to 7.00pm for traditional hot winter puddings. Or if you are watching your waistline\, something lighter. \nPlease contact us to let us know you plan to attend.
URL:https://sandwellvisuallyimpaired.org.uk/old-event/womens-group-pudding-club/
LOCATION:SVI Office/Common Room\, West Bromwich Town Hall\, High Street\, West Bromwich\, B70 8DY
CATEGORIES:Women's Group
ORGANIZER;CN="Sandwell Visually Impaired":MAILTO:info@sandwellvisuallyimpaired.org.uk
END:VEVENT
END:VCALENDAR