BEGIN:VCALENDAR
VERSION:2.0
PRODID:-//Sandwell Visually Impaired - ECPv6.15.4//NONSGML v1.0//EN
CALSCALE:GREGORIAN
METHOD:PUBLISH
X-ORIGINAL-URL:https://sandwellvisuallyimpaired.org.uk
X-WR-CALDESC:Events for Sandwell Visually Impaired
REFRESH-INTERVAL;VALUE=DURATION:PT1H
X-Robots-Tag:noindex
X-PUBLISHED-TTL:PT1H
BEGIN:VTIMEZONE
TZID:Europe/London
BEGIN:DAYLIGHT
TZOFFSETFROM:+0000
TZOFFSETTO:+0100
TZNAME:BST
DTSTART:20190331T010000
END:DAYLIGHT
BEGIN:STANDARD
TZOFFSETFROM:+0100
TZOFFSETTO:+0000
TZNAME:GMT
DTSTART:20191027T010000
END:STANDARD
BEGIN:DAYLIGHT
TZOFFSETFROM:+0000
TZOFFSETTO:+0100
TZNAME:BST
DTSTART:20200329T010000
END:DAYLIGHT
BEGIN:STANDARD
TZOFFSETFROM:+0100
TZOFFSETTO:+0000
TZNAME:GMT
DTSTART:20201025T010000
END:STANDARD
END:VTIMEZONE
BEGIN:VEVENT
DTSTART;TZID=Europe/London:20200227T100000
DTEND;TZID=Europe/London:20200227T123000
DTSTAMP:20260423T154302
CREATED:20200211T172830Z
LAST-MODIFIED:20200211T172830Z
UID:1814-1582797600-1582806600@sandwellvisuallyimpaired.org.uk
SUMMARY:Oak House Museum and carvery lunch at the Dovecote -SocialEyes
DESCRIPTION:After the success of our day out at Haden Hill House\, we have organised a guided tour of the Oak House Museum in West Bromwich on Thursday 27 February. \nThe cost is £5 per person\, payable on the day\, to include the tour\, tea or coffee and biscuits. You can either meet us at the SVI office at 10am where we will walk together to the Oak House\, or meet us outside the house on Oak Road\, B70 8HJ at 10.20am. \nIf you are still feeling peckish after our morning tour of the house\, then join us at the Dovecote\, Hill Top at 1pm for a carvery lunch from £4.69. \nYou might choose to travel with us at a shared cost from the Oak House to the pub. Call the office to book your place.
URL:https://sandwellvisuallyimpaired.org.uk/old-event/oak-house-museum-and-carvery-lunch-at-the-dovecote-socialeyes/
LOCATION:Oak House\, Oak Road\, West Bromwich\, B70 8HJ
CATEGORIES:SocialEyes
ORGANIZER;CN="Sandwell Visually Impaired":MAILTO:info@sandwellvisuallyimpaired.org.uk
END:VEVENT
BEGIN:VEVENT
DTSTART;TZID=Europe/London:20191211T140000
DTEND;TZID=Europe/London:20191211T170000
DTSTAMP:20260423T154302
CREATED:20191116T115559Z
LAST-MODIFIED:20191116T115636Z
UID:1489-1576072800-1576083600@sandwellvisuallyimpaired.org.uk
SUMMARY:Christmas afternoon tea - SocialEyes
DESCRIPTION:On Wednesday 11 December\, we will be indulged at The Plough and Harrow\, Hagley Road\, with a sumptuous afternoon tea. Make your own way there and join us at 2.00pm for sandwiches\, scones and cake washed down with a glass of prosecco and your choice of hot drink\, all of this for £18 per person. \nCall the SVI office to book and pay. \nFor those who prefer to meet us in West Bromwich\, travel arrangements can be arranged at an extra cost.
URL:https://sandwellvisuallyimpaired.org.uk/old-event/christmas-afternoon-tea-socialeyes/
LOCATION:Plough and Harrow\, 135 Hagley Road\, Birmingham\, B16 8LS
CATEGORIES:SocialEyes
ORGANIZER;CN="Sandwell Visually Impaired":MAILTO:info@sandwellvisuallyimpaired.org.uk
END:VEVENT
BEGIN:VEVENT
DTSTART;VALUE=DATE:20191121
DTEND;VALUE=DATE:20191122
DTSTAMP:20260423T154302
CREATED:20191028T164354Z
LAST-MODIFIED:20191028T164721Z
UID:1446-1574294400-1574380799@sandwellvisuallyimpaired.org.uk
SUMMARY:Christmas Shopping at Clarks Village
DESCRIPTION:A trip to Clarks Village Outlet shopping centre in Street\, Somerset with the SocialEyes group. \nWe have a 32 seater coach. It is an early start so we get the whole day there and we will have a couple of pick up points. The coach fare is £16 each. Full payment required upon booking. \nDetails available from the office.
URL:https://sandwellvisuallyimpaired.org.uk/old-event/christmas-shopping-at-clarkes-village/
CATEGORIES:SocialEyes
END:VEVENT
END:VCALENDAR