BEGIN:VCALENDAR
VERSION:2.0
PRODID:-//Sandwell Visually Impaired - ECPv6.15.4//NONSGML v1.0//EN
CALSCALE:GREGORIAN
METHOD:PUBLISH
X-WR-CALNAME:Sandwell Visually Impaired
X-ORIGINAL-URL:https://sandwellvisuallyimpaired.org.uk
X-WR-CALDESC:Events for Sandwell Visually Impaired
REFRESH-INTERVAL;VALUE=DURATION:PT1H
X-Robots-Tag:noindex
X-PUBLISHED-TTL:PT1H
BEGIN:VTIMEZONE
TZID:Europe/London
BEGIN:DAYLIGHT
TZOFFSETFROM:+0000
TZOFFSETTO:+0100
TZNAME:BST
DTSTART:20190331T010000
END:DAYLIGHT
BEGIN:STANDARD
TZOFFSETFROM:+0100
TZOFFSETTO:+0000
TZNAME:GMT
DTSTART:20191027T010000
END:STANDARD
BEGIN:DAYLIGHT
TZOFFSETFROM:+0000
TZOFFSETTO:+0100
TZNAME:BST
DTSTART:20200329T010000
END:DAYLIGHT
BEGIN:STANDARD
TZOFFSETFROM:+0100
TZOFFSETTO:+0000
TZNAME:GMT
DTSTART:20201025T010000
END:STANDARD
BEGIN:DAYLIGHT
TZOFFSETFROM:+0000
TZOFFSETTO:+0100
TZNAME:BST
DTSTART:20210328T010000
END:DAYLIGHT
BEGIN:STANDARD
TZOFFSETFROM:+0100
TZOFFSETTO:+0000
TZNAME:GMT
DTSTART:20211031T010000
END:STANDARD
BEGIN:DAYLIGHT
TZOFFSETFROM:+0000
TZOFFSETTO:+0100
TZNAME:BST
DTSTART:20220327T010000
END:DAYLIGHT
BEGIN:STANDARD
TZOFFSETFROM:+0100
TZOFFSETTO:+0000
TZNAME:GMT
DTSTART:20221030T010000
END:STANDARD
BEGIN:DAYLIGHT
TZOFFSETFROM:+0000
TZOFFSETTO:+0100
TZNAME:BST
DTSTART:20230326T010000
END:DAYLIGHT
BEGIN:STANDARD
TZOFFSETFROM:+0100
TZOFFSETTO:+0000
TZNAME:GMT
DTSTART:20231029T010000
END:STANDARD
END:VTIMEZONE
BEGIN:VEVENT
DTSTART;TZID=Europe/London:20231025T090000
DTEND;TZID=Europe/London:20231025T180000
DTSTAMP:20260423T122041
CREATED:20231023T123450Z
LAST-MODIFIED:20231023T123450Z
UID:4318-1698224400-1698256800@sandwellvisuallyimpaired.org.uk
SUMMARY:SocialEyes trip to Alton Towers
DESCRIPTION:Not for the faint hearted\, this day of thrilling\, white knuckle rides promises to be full of adventure and trembling knee-knocking experiences.  \n£25 each.   \nContact us to book your place and we can tell you what you need to do before attending and on arrival.   \nThere are only a couple of spaces left for this trip so please hurry.
URL:https://sandwellvisuallyimpaired.org.uk/old-event/socialeyes-trip-to-alton-towers/
CATEGORIES:Sandwell Calendar,SocialEyes
ORGANIZER;CN="Sandwell Visually Impaired":MAILTO:info@sandwellvisuallyimpaired.org.uk
END:VEVENT
BEGIN:VEVENT
DTSTART;TZID=Europe/London:20230921T090000
DTEND;TZID=Europe/London:20230921T200000
DTSTAMP:20260423T122041
CREATED:20230901T162635Z
LAST-MODIFIED:20230901T162635Z
UID:4056-1695286800-1695326400@sandwellvisuallyimpaired.org.uk
SUMMARY:Day trip to Weston Super Mare  (SocialEyes)
DESCRIPTION:SocialEyes activities are for VI people of all ages. \nWhy not have a good old-fashioned day at the seaside with your SocialEyes friends? It’s a bargain price of £10 per person\, covering travel\, payable in advance. \nWe meet at West Bromwich Bus Station at 9am and get back at approximately 8pm.  Bring a picnic\, buy fish and chips\, visit the pub\, stroll along the pier\, whatever takes your fancy. Funded by Wates Family Trust. \nContact the office to book your place and find out about how to pay.
URL:https://sandwellvisuallyimpaired.org.uk/old-event/day-trip-to-weston-super-mare-socialeyes/
CATEGORIES:Sandwell Calendar,SocialEyes
ORGANIZER;CN="Sandwell Visually Impaired":MAILTO:info@sandwellvisuallyimpaired.org.uk
END:VEVENT
BEGIN:VEVENT
DTSTART;TZID=Europe/London:20230524T090000
DTEND;TZID=Europe/London:20230524T180000
DTSTAMP:20260423T122041
CREATED:20230417T123415Z
LAST-MODIFIED:20230417T123415Z
UID:3822-1684918800-1684951200@sandwellvisuallyimpaired.org.uk
SUMMARY:Riverboat cruise\, Nottingham on Wednesday 24 May
DESCRIPTION:Join SocialEyes for a day trip to the river Trent\, Nottingham. We will board the Princess riverboat for a roast dinner with dessert as we take a leisurely cruise along the Trent\, with audio commentary. The cost of this day out is £30 and includes coach travel\, river cruise\, your meal and tea/coffee. There is a bar on board for those of you who\, at an extra charge\, want to partake of a tipple. \nWe meet for the coach at our usual meeting point in West Bromwich at 9am and expect to arrive back in West Bromwich by 5.45pm. \nBooking and payment in advance for this trip is essential\, so don’t delay.  \n(The SocialEyes group has activities for VI people of all ages. The group has recently received some funding from the Wates Family Enterprise fund. This means that we can run some trips at a subsidised cost to our members. ) \n 
URL:https://sandwellvisuallyimpaired.org.uk/old-event/riverboat-cruise-nottingham-on-wednesday-24-may/
CATEGORIES:Sandwell Calendar,SocialEyes
ORGANIZER;CN="Sandwell Visually Impaired":MAILTO:info@sandwellvisuallyimpaired.org.uk
END:VEVENT
BEGIN:VEVENT
DTSTART;TZID=Europe/London:20230225T160000
DTEND;TZID=Europe/London:20230225T210000
DTSTAMP:20260423T122041
CREATED:20230106T182242Z
LAST-MODIFIED:20230106T182242Z
UID:3591-1677340800-1677358800@sandwellvisuallyimpaired.org.uk
SUMMARY:Evening at the Dogs - SocialEyes
DESCRIPTION:SocialEyes members are having a night at the Perry Barr Greyhound races. We will enjoy a three-course meal in the restaurant\, while watching the racing and having a flutter or two. \nThe cost of the evening is £35\, to include entrance to the stadium\, a race card\, three course meal and transport from West Bromwich. If you want to make your own travel arrangements the cost will be £28. \nContact the office now to register your interest as pre-booking and pre-payment is essential\, and spaces will be limited. \nPlease note that times are to be confirmed.
URL:https://sandwellvisuallyimpaired.org.uk/old-event/evening-at-the-dogs-socialeyes/
CATEGORIES:SocialEyes
ORGANIZER;CN="Sandwell Visually Impaired":MAILTO:info@sandwellvisuallyimpaired.org.uk
END:VEVENT
BEGIN:VEVENT
DTSTART;TZID=Europe/London:20221201T180000
DTEND;TZID=Europe/London:20221201T203000
DTSTAMP:20260423T122041
CREATED:20221126T164225Z
LAST-MODIFIED:20221126T164225Z
UID:3497-1669917600-1669926600@sandwellvisuallyimpaired.org.uk
SUMMARY:A candlelit Christmas at Haden Hill House
DESCRIPTION:Thursday 1 December from 6.00 – 8.30pm.\nCome with us and visit this historic house and step back into Christmas past. We will take a tour of the house\, join in the carols in the drawing room and learn about Christmas cake with the housekeeper. Please note that this is a candlelit tour and the lighting will be very low.\nThe cost is £4.50 per person plus additional costs if you require transport.\nPlease contact the office for more information – tickets are limited!
URL:https://sandwellvisuallyimpaired.org.uk/old-event/a-candlelit-christmas-at-haden-hill-house/
CATEGORIES:Sandwell Calendar,SocialEyes
ORGANIZER;CN="Sandwell Visually Impaired":MAILTO:info@sandwellvisuallyimpaired.org.uk
END:VEVENT
BEGIN:VEVENT
DTSTART;TZID=Europe/London:20221128T113000
DTEND;TZID=Europe/London:20221128T143000
DTSTAMP:20260423T122041
CREATED:20221108T145034Z
LAST-MODIFIED:20221126T163718Z
UID:3474-1669635000-1669645800@sandwellvisuallyimpaired.org.uk
SUMMARY:SVI Winter Bazaar
DESCRIPTION:Lots of stalls\, a raffle and festive fun. Friends and family welcome. A great opportunity to buy your festive gifts in a relaxed environment with friends and family.\nFree entry. \nThe winter festivities start here\, with stalls packed full of lovely crafts and goodies to fill those Christmas stockings. Or just blow away the winter blues by treating yourself to something special. There’s help on hand to show you round the stalls\, light refreshments to purchase\, a chance to take part in the raffle and generally have a jolly time chatting and mingling with SVI friends and guests. It’s a fun way to get your gifts for Christmas and helps raise funds for the Active 60 group. Invite all your friends to come along too. Contact the office for more details or just drop in to the club on Monday 28 November.
URL:https://sandwellvisuallyimpaired.org.uk/old-event/svi-winter-bazaar/
LOCATION:Dartmouth Central Club\, Devonshire Drive West\, West Bromwich\, B71 4AA
CATEGORIES:Active 60,Sandwell Calendar,SocialEyes
ORGANIZER;CN="Sandwell Visually Impaired":MAILTO:info@sandwellvisuallyimpaired.org.uk
END:VEVENT
BEGIN:VEVENT
DTSTART;TZID=Europe/London:20220819T180000
DTEND;TZID=Europe/London:20220819T220000
DTSTAMP:20260423T122041
CREATED:20220805T164036Z
LAST-MODIFIED:20220805T164053Z
UID:3281-1660932000-1660946400@sandwellvisuallyimpaired.org.uk
SUMMARY:Barbecue and karaoke
DESCRIPTION:SocialEyes invites you\, your families and friends to join them for an early evening barbecue followed at 8pm by a karaoke. Enjoy the evening sunshine…we hope! Then wow your friends by belting out your favourite songs. Even if it rains it won’t put a dampener on our enjoyment!\nTickets are £7 inclusive of barbecue. Drinks can be purchased from the bar.  \nFor those of you who like more ‘thrilling’ activities\, SocialEyes are organising an activity day at Ackers Adventure Centre in Birmingham. This will take place mid-September. We will send out more information once details are confirmed. It’s not too early to express your interest though\, as numbers for this activity will be limited\, so don’t delay.
URL:https://sandwellvisuallyimpaired.org.uk/old-event/barbecue-and-karaoke/
LOCATION:Dartmouth Central Club\, Devonshire Drive West\, West Bromwich\, B71 4AA
CATEGORIES:Sandwell Calendar,SocialEyes
ORGANIZER;CN="Sandwell Visually Impaired":MAILTO:info@sandwellvisuallyimpaired.org.uk
END:VEVENT
BEGIN:VEVENT
DTSTART;TZID=Europe/London:20220713T143000
DTEND;TZID=Europe/London:20220713T163000
DTSTAMP:20260423T122041
CREATED:20220630T094828Z
LAST-MODIFIED:20220630T094828Z
UID:3229-1657722600-1657729800@sandwellvisuallyimpaired.org.uk
SUMMARY:Trip to Grand Theatre to see Cluedo
DESCRIPTION:SocialEyes goes to the theatre with an audio described matinee performance of Cluedo at the Grand Theatre\, Lichfield Street\, Wolverhampton WV1 1DE. It’s on Wednesday 13 July. The performance starts at 2.30 and ends at 4.30pm. \nTickets for VI member/carer/helper are £38 for you and your companion.  So\, if you are coming alone\, do contact the office and we will match you to someone so that you can get this concessionary price.  This is an audio described performance – description provided by Mind’s Eye. \nWe can travel as a group on public transport\, so contact the office to find out meeting times.  If you would like minibus/taxi transport from West Bromwich Bus Station direct to the theatre there will be an additional charge. \nStarring Michelle Collins as Miss Scarlett\, Cluedo is an exciting\, comedy thriller based on the hit 1985 film Clue and the classic board game loved by generations. This hilarious spoof of a thriller will keep you guessing right up to the finale as both the guests and audience try to work out whodunnit…. with what… and where!
URL:https://sandwellvisuallyimpaired.org.uk/old-event/trip-to-grand-theatre-to-see-cluedo/
CATEGORIES:Sandwell Calendar,SocialEyes
ORGANIZER;CN="Sandwell Visually Impaired":MAILTO:info@sandwellvisuallyimpaired.org.uk
END:VEVENT
BEGIN:VEVENT
DTSTART;TZID=Europe/London:20200422T110000
DTEND;TZID=Europe/London:20200422T130000
DTSTAMP:20260423T122041
CREATED:20200211T174748Z
LAST-MODIFIED:20200319T125500Z
UID:1819-1587553200-1587560400@sandwellvisuallyimpaired.org.uk
SUMMARY:Inflata Nation - Socialeyes
DESCRIPTION:CANCELLED \nWant to bring out your inner child? Then join us for a play session at the Inflata Nation arena on Wednesday 22 April. It features great activities such as awesome drop and wavy slides\, climbing walls\, huge ball pools to dive into and lots of other inflatable games to get you bouncing around the arena and challenging your nerve\, stamina and balance. Although the most important thing is that you’ll have an exhilaratingly thrilling and awesome amount of FUN! \nWe will meet outside the Pure Gym at Astle Retail Park\, West Bromwich at 11am. We will register at the arena for our 12pm to 1pm bounce\, entrance costs £9.99. \nBe the first to bounce and book your visit by contacting the SVI office to register and make payment by Monday 16th March. If you wish\, you can join us for lunch afterwards at the German Donor Kebab house located on Astle Retail Park at 1.30pm. \nIf you are interested please get in touch as soon as possible to book your place. If you are required to make arrangements to pay\, you can do this by visiting us or bank transfer.
URL:https://sandwellvisuallyimpaired.org.uk/old-event/inflata-nation-socialeyes/
LOCATION:Inflata Nation\, Unit 6 Astle Park\, West Bromwich\, B70 8NS
CATEGORIES:SocialEyes
ORGANIZER;CN="Sandwell Visually Impaired":MAILTO:info@sandwellvisuallyimpaired.org.uk
END:VEVENT
BEGIN:VEVENT
DTSTART;TZID=Europe/London:20200328T190000
DTEND;TZID=Europe/London:20200328T230000
DTSTAMP:20260423T122041
CREATED:20200211T173234Z
LAST-MODIFIED:20200319T125749Z
UID:1817-1585422000-1585436400@sandwellvisuallyimpaired.org.uk
SUMMARY:Beer and Skittles - SocialEyes
DESCRIPTION:CANCELLED \n  \nCome and join us on Saturday 28th March at Dartmouth Central Club\, Devonshire Drive\, West Bromwich\, B71 4AA\, for a fun-filled evening starting at 7pm. \nThis is your chance to try out or improve your bowling skills\, whilst enjoying a drink; you may even win a prize on our raffle! \nThe tickets are priced at £5 per person which includes a buffet; this is an event for all so if you want to bring people just get them a ticket too. \nIf you wish to attend please contact the office on 0121 525 4810 to arrange making payment by Monday 16th March.
URL:https://sandwellvisuallyimpaired.org.uk/old-event/beer-and-skittles-socialeyes/
LOCATION:Dartmouth Central Club\, Devonshire Drive West\, West Bromwich\, B71 4AA
CATEGORIES:SocialEyes
ORGANIZER;CN="Sandwell Visually Impaired":MAILTO:info@sandwellvisuallyimpaired.org.uk
END:VEVENT
BEGIN:VEVENT
DTSTART;TZID=Europe/London:20200227T100000
DTEND;TZID=Europe/London:20200227T123000
DTSTAMP:20260423T122041
CREATED:20200211T172830Z
LAST-MODIFIED:20200211T172830Z
UID:1814-1582797600-1582806600@sandwellvisuallyimpaired.org.uk
SUMMARY:Oak House Museum and carvery lunch at the Dovecote -SocialEyes
DESCRIPTION:After the success of our day out at Haden Hill House\, we have organised a guided tour of the Oak House Museum in West Bromwich on Thursday 27 February. \nThe cost is £5 per person\, payable on the day\, to include the tour\, tea or coffee and biscuits. You can either meet us at the SVI office at 10am where we will walk together to the Oak House\, or meet us outside the house on Oak Road\, B70 8HJ at 10.20am. \nIf you are still feeling peckish after our morning tour of the house\, then join us at the Dovecote\, Hill Top at 1pm for a carvery lunch from £4.69. \nYou might choose to travel with us at a shared cost from the Oak House to the pub. Call the office to book your place.
URL:https://sandwellvisuallyimpaired.org.uk/old-event/oak-house-museum-and-carvery-lunch-at-the-dovecote-socialeyes/
LOCATION:Oak House\, Oak Road\, West Bromwich\, B70 8HJ
CATEGORIES:SocialEyes
ORGANIZER;CN="Sandwell Visually Impaired":MAILTO:info@sandwellvisuallyimpaired.org.uk
END:VEVENT
BEGIN:VEVENT
DTSTART;TZID=Europe/London:20191211T140000
DTEND;TZID=Europe/London:20191211T170000
DTSTAMP:20260423T122041
CREATED:20191116T115559Z
LAST-MODIFIED:20191116T115636Z
UID:1489-1576072800-1576083600@sandwellvisuallyimpaired.org.uk
SUMMARY:Christmas afternoon tea - SocialEyes
DESCRIPTION:On Wednesday 11 December\, we will be indulged at The Plough and Harrow\, Hagley Road\, with a sumptuous afternoon tea. Make your own way there and join us at 2.00pm for sandwiches\, scones and cake washed down with a glass of prosecco and your choice of hot drink\, all of this for £18 per person. \nCall the SVI office to book and pay. \nFor those who prefer to meet us in West Bromwich\, travel arrangements can be arranged at an extra cost.
URL:https://sandwellvisuallyimpaired.org.uk/old-event/christmas-afternoon-tea-socialeyes/
LOCATION:Plough and Harrow\, 135 Hagley Road\, Birmingham\, B16 8LS
CATEGORIES:SocialEyes
ORGANIZER;CN="Sandwell Visually Impaired":MAILTO:info@sandwellvisuallyimpaired.org.uk
END:VEVENT
BEGIN:VEVENT
DTSTART;VALUE=DATE:20191121
DTEND;VALUE=DATE:20191122
DTSTAMP:20260423T122041
CREATED:20191028T164354Z
LAST-MODIFIED:20191028T164721Z
UID:1446-1574294400-1574380799@sandwellvisuallyimpaired.org.uk
SUMMARY:Christmas Shopping at Clarks Village
DESCRIPTION:A trip to Clarks Village Outlet shopping centre in Street\, Somerset with the SocialEyes group. \nWe have a 32 seater coach. It is an early start so we get the whole day there and we will have a couple of pick up points. The coach fare is £16 each. Full payment required upon booking. \nDetails available from the office.
URL:https://sandwellvisuallyimpaired.org.uk/old-event/christmas-shopping-at-clarkes-village/
CATEGORIES:SocialEyes
END:VEVENT
END:VCALENDAR